BEGIN:VCALENDAR
PRODID:-//Mozilla.org/NONSGML Mozilla Calendar V1.1//EN
VERSION:2.0
METHOD:REQUEST
BEGIN:VTIMEZONE
TZID:America/New_York
X-TZINFO:America/New_York[2025b]
BEGIN:STANDARD
TZOFFSETTO:-050000
TZOFFSETFROM:-045602
TZNAME:America/New_York(STD)
DTSTART:18831118T120358
RDATE:18831118T120358
END:STANDARD
BEGIN:DAYLIGHT
TZOFFSETTO:-040000
TZOFFSETFROM:-050000
TZNAME:America/New_York(DST)
DTSTART:19180331T020000
RRULE:FREQ=YEARLY;BYMONTH=3;BYDAY=-1SU;UNTIL=19200328T020000
END:DAYLIGHT
BEGIN:STANDARD
TZOFFSETTO:-050000
TZOFFSETFROM:-040000
TZNAME:America/New_York(STD)
DTSTART:19181027T020000
RRULE:FREQ=YEARLY;BYMONTH=10;BYDAY=-1SU;UNTIL=19201031T020000
END:STANDARD
BEGIN:DAYLIGHT
TZOFFSETTO:-040000
TZOFFSETFROM:-050000
TZNAME:America/New_York(DST)
DTSTART:19210424T020000
RRULE:FREQ=YEARLY;BYMONTH=4;BYDAY=-1SU;UNTIL=19410427T020000
END:DAYLIGHT
BEGIN:STANDARD
TZOFFSETTO:-050000
TZOFFSETFROM:-040000
TZNAME:America/New_York(STD)
DTSTART:19210925T020000
RRULE:FREQ=YEARLY;BYMONTH=9;BYDAY=-1SU;UNTIL=19410928T020000
END:STANDARD
BEGIN:DAYLIGHT
TZOFFSETTO:-040000
TZOFFSETFROM:-050000
TZNAME:America/New_York(DST)
DTSTART:19420209T020000
RDATE:19420209T020000
END:DAYLIGHT
BEGIN:STANDARD
TZOFFSETTO:-050000
TZOFFSETFROM:-040000
TZNAME:America/New_York(STD)
DTSTART:19450930T020000
RRULE:FREQ=YEARLY;BYMONTH=9;BYDAY=-1SU;UNTIL=19540926T020000
END:STANDARD
BEGIN:DAYLIGHT
TZOFFSETTO:-040000
TZOFFSETFROM:-050000
TZNAME:America/New_York(DST)
DTSTART:19460428T020000
RRULE:FREQ=YEARLY;BYMONTH=4;BYDAY=-1SU;UNTIL=19730429T020000
END:DAYLIGHT
BEGIN:DAYLIGHT
TZOFFSETTO:-040000
TZOFFSETFROM:-050000
TZNAME:America/New_York(DST)
DTSTART:19740106T020000
RDATE:19740106T020000
END:DAYLIGHT
BEGIN:DAYLIGHT
TZOFFSETTO:-040000
TZOFFSETFROM:-050000
TZNAME:America/New_York(DST)
DTSTART:19750223T020000
RDATE:19750223T020000
END:DAYLIGHT
BEGIN:DAYLIGHT
TZOFFSETTO:-040000
TZOFFSETFROM:-050000
TZNAME:America/New_York(DST)
DTSTART:19760425T020000
RRULE:FREQ=YEARLY;BYMONTH=4;BYDAY=-1SU;UNTIL=19860427T020000
END:DAYLIGHT
BEGIN:DAYLIGHT
TZOFFSETTO:-040000
TZOFFSETFROM:-050000
TZNAME:America/New_York(DST)
DTSTART:19870405T020000
RRULE:FREQ=YEARLY;BYMONTH=4;BYDAY=1SU;UNTIL=20060402T020000
END:DAYLIGHT
BEGIN:STANDARD
TZOFFSETTO:-050000
TZOFFSETFROM:-040000
TZNAME:America/New_York(STD)
DTSTART:19551030T020000
RRULE:FREQ=YEARLY;BYMONTH=10;BYDAY=-1SU;UNTIL=20061029T020000
END:STANDARD
BEGIN:DAYLIGHT
TZOFFSETTO:-040000
TZOFFSETFROM:-050000
TZNAME:America/New_York(DST)
DTSTART:20070311T020000
RDATE:20070311T020000
END:DAYLIGHT
BEGIN:STANDARD
TZOFFSETTO:-050000
TZOFFSETFROM:-040000
TZNAME:America/New_York(STD)
DTSTART:20071104T020000
RDATE:20071104T020000
END:STANDARD
BEGIN:DAYLIGHT
TZOFFSETTO:-040000
TZOFFSETFROM:-050000
TZNAME:(DST)
DTSTART:20080309T020000
RRULE:FREQ=YEARLY;BYMONTH=3;BYDAY=2SU
END:DAYLIGHT
BEGIN:STANDARD
TZOFFSETTO:-050000
TZOFFSETFROM:-040000
TZNAME:(STD)
DTSTART:20081102T020000
RRULE:FREQ=YEARLY;BYMONTH=11;BYDAY=1SU
END:STANDARD
END:VTIMEZONE
BEGIN:VEVENT
CREATED:20260316T232219Z
LAST-MODIFIED:20260317T145148Z
DTSTAMP:20260317T145148Z
UID:1b746acb-890d-48e8-a150-7bf07b485f39
SUMMARY:AI-X3D SIG Meeting on March 17\, 2026 AT 8:00 AM PDT (GMT-7)
ORGANIZER;CN=Anita Havele;PARTSTAT=NEEDS-ACTION;CUTYPE=INDIVIDUAL:mailto:an
 ita.havele@web3d.org
ATTENDEE;CN=Anita Havele;PARTSTAT=ACCEPTED;CUTYPE=INDIVIDUAL;ROLE=REQ-PARTI
 CIPANT:mailto:anita.havele@web3d.org
ATTENDEE;PARTSTAT=NEEDS-ACTION;CUTYPE=INDIVIDUAL;ROLE=REQ-PARTICIPANT:mailt
 o:ai@web3d.org
ATTENDEE;CN=Dr. Jens Schneider;PARTSTAT=NEEDS-ACTION;CUTYPE=INDIVIDUAL;ROLE
 =REQ-PARTICIPANT:mailto:jeschneider@hbku.edu.qa
ATTENDEE;CN=Marco Agus;PARTSTAT=NEEDS-ACTION;CUTYPE=INDIVIDUAL;ROLE=REQ-PAR
 TICIPANT:mailto:magus@hbku.edu.qa
ATTENDEE;PARTSTAT=NEEDS-ACTION;CUTYPE=INDIVIDUAL;ROLE=REQ-PARTICIPANT:mailt
 o:x3d-public@web3d.org
DTSTART;TZID=America/New_York:20260317T110000
DTEND;TZID=America/New_York:20260317T120000
TRANSP:OPAQUE
LOCATION:https://us02web.zoom.us/j/86225731225?pwd=aUh3twfhNUaacXLyJolEof1t
 sZXSyA.1
DESCRIPTION;ALTREP="data:text/html,%3Cdiv%20align%3D%22left%22%3E%3Cspan%20
 id%3D%22docs-internal-guid-88e9fa18-7fff-04fd-96ba-1f71a271e7ee%22%3E%3Cp%2
 0dir%3D%22ltr%22%3E%3Cspan%3EHello%20everyone%2C%3C%2Fspan%3E%3C%2Fp%3E%3Cp
 %20dir%3D%22ltr%22%3E%3Cspan%3EPlease%20find%20the%20proposed%20agenda%20fo
 r%20the%20next%20%3Ca%20href%3D%22https%3A%2F%2Fwww.web3d.org%2Fworking-gro
 ups%2Fai-x3d%22%3EAI-X3D%20special%20interest%20group%20%3C%2Fa%3Emeeting.%
 C2%A0%3C%2Fspan%3E%3C%2Fp%3E%3Cp%20dir%3D%22ltr%22%3E%3Cspan%3EDate%20%26am
 p%3B%20time%3A%20March%2017%2C%202026%20A%20at%208%20AM%20PDT%20(GMT-7)%3C%
 2Fspan%3E%3C%2Fp%3E%3Cp%20dir%3D%22ltr%22%3E%3Cspan%3EDuration%3A%20%5B60-9
 0%20minutes%5D%20%3C%2Fspan%3E%3C%2Fp%3E%3Cp%20dir%3D%22ltr%22%3E%3Cspan%3E
 Location%3A%3C%2Fspan%3E%3Ca%20href%3D%22https%3A%2F%2Fus02web.zoom.us%2Fj%
 2F86225731225%3Fpwd%3DaUh3twfhNUaacXLyJolEof1tsZXSyA.1%22%3E%3Cspan%3E%20%3
 C%2Fspan%3E%3Cspan%3Ehttps%3A%2F%2Fus02web.zoom.us%2Fj%2F86225731225%3Fpwd%
 3DaUh3twfhNUaacXLyJolEof1tsZXSyA.1%3C%2Fspan%3E%3C%2Fa%3E%3C%2Fp%3E%3Cp%20d
 ir%3D%22ltr%22%3E%3Cspan%3EPlease%20review%20the%20agenda%20before%20the%20
 meeting%20and%20include%20any%20edits%2Fadditions%C2%A0%3C%2Fspan%3E%3C%2Fp
 %3E%3Cp%20dir%3D%22ltr%22%3E%3Cspan%3Ehttps%3A%2F%2Fdocs.google.com%2Fdocum
 ent%2Fd%2F1jKoVgGfME98GTm1e9P4a9-4GWEegjbabwvkQA9rkPZQ%2Fedit%3Ftab%3Dt.0%3
 C%2Fspan%3E%3C%2Fp%3E%3C%2Fspan%3E%3Cspan%20id%3D%22docs-internal-guid-88e9
 fa18-7fff-04fd-96ba-1f71a271e7ee%22%3E%3Cp%20dir%3D%22ltr%22%3E%3Cspan%20id
 %3D%22docs-internal-guid-88e9fa18-7fff-04fd-96ba-1f71a271e7ee%22%3E%3Cspan%
 3EBest%20regards%2C%3C%2Fspan%3E%3C%2Fspan%3E%3C%2Fp%3E%3C%2Fspan%3E%3Cspan
 %20id%3D%22docs-internal-guid-88e9fa18-7fff-04fd-96ba-1f71a271e7ee%22%3E%3C
 p%20dir%3D%22ltr%22%3E%3Cspan%20id%3D%22docs-internal-guid-88e9fa18-7fff-04
 fd-96ba-1f71a271e7ee%22%3E%3Cspan%3EAnita%20Havele%3C%2Fspan%3E%3C%2Fspan%3
 E%3C%2Fp%3E%3C%2Fspan%3E%3Cspan%20id%3D%22docs-internal-guid-88e9fa18-7fff-
 04fd-96ba-1f71a271e7ee%22%3E%3Cp%20dir%3D%22ltr%22%3E%3Cspan%20id%3D%22docs
 -internal-guid-88e9fa18-7fff-04fd-96ba-1f71a271e7ee%22%3E%3Cspan%3EExecutiv
 e%20Director%2C%20Web3D%20Consortium%3C%2Fspan%3E%3C%2Fspan%3E%3C%2Fp%3E%3C
 %2Fspan%3E%3C%2Fdiv%3E":Hello everyone\,\n\nPlease find the proposed agenda
  for the next AI-X3D special interest group meeting. \n\nDate & time: March
  17\, 2026 A at 8 AM PDT (GMT-7)\n\nDuration: [60-90 minutes] \n\nLocation:
  https://us02web.zoom.us/j/86225731225?pwd=aUh3twfhNUaacXLyJolEof1tsZXSyA.1
 \n\nPlease review the agenda before the meeting and include any edits/addit
 ions \n\nhttps://docs.google.com/document/d/1jKoVgGfME98GTm1e9P4a9-4GWEegjb
 abwvkQA9rkPZQ/edit?tab=t.0\n\nBest regards\,\n\nAnita Havele\n\nExecutive D
 irector\, Web3D Consortium
END:VEVENT
END:VCALENDAR

